BEGIN:VCALENDAR
VERSION:2.0
PRODID:-//Shantideva Center - ECPv6.6.4.2//NONSGML v1.0//EN
CALSCALE:GREGORIAN
METHOD:PUBLISH
X-ORIGINAL-URL:https://shantidevanyc.org
X-WR-CALDESC:Events for Shantideva Center
REFRESH-INTERVAL;VALUE=DURATION:PT1H
X-Robots-Tag:noindex
X-PUBLISHED-TTL:PT1H
BEGIN:VTIMEZONE
TZID:America/New_York
BEGIN:DAYLIGHT
TZOFFSETFROM:-0500
TZOFFSETTO:-0400
TZNAME:EDT
DTSTART:20210314T070000
END:DAYLIGHT
BEGIN:STANDARD
TZOFFSETFROM:-0400
TZOFFSETTO:-0500
TZNAME:EST
DTSTART:20211107T060000
END:STANDARD
END:VTIMEZONE
BEGIN:VEVENT
DTSTART;TZID=America/New_York:20210601T190000
DTEND;TZID=America/New_York:20210601T203000
DTSTAMP:20260425T072501
CREATED:20210402T180653Z
LAST-MODIFIED:20210403T161953Z
UID:19535-1622574000-1622579400@shantidevanyc.org
SUMMARY:Three ​Visions of Profound Reality​​ with Prof. Guy Newland
DESCRIPTION:When Buddha meditated on the causes of human suffering and dissatisfaction\, he found liberation by realizing what he called the Profound Reality. Professor Newland explains the distinctive power of Tsongkhapa’s articulation of this vision\, contrasting it with the approaches of other Tibetan masters such as Dölpopa Sherap Gyaltsen and Goram Sönam Senge.
URL:https://shantidevanyc.org/event/three-%e2%80%8bvisions-of-profound-reality%e2%80%8b%e2%80%8b-2021-06-01/
CATEGORIES:Teachings
ATTACH;FMTTYPE=image/jpeg:https://shantidevanyc.org/wp-content/uploads/2021/03/2021-Guy-Newland-bio.jpg
END:VEVENT
BEGIN:VEVENT
DTSTART;TZID=America/New_York:20210527T190000
DTEND;TZID=America/New_York:20210527T203000
DTSTAMP:20260425T072501
CREATED:20210402T180649Z
LAST-MODIFIED:20210402T180649Z
UID:19548-1622142000-1622147400@shantidevanyc.org
SUMMARY:Meditations to Train the Mind in the Mahayana Path with Ven. George Churinoff
DESCRIPTION:The lamrim\, the gradual path to enlightenment\, is a textual tradition that presents the Buddhist teachings in a concise yet comprehensive manner. Lamrim meditations are essential for actualizing the various teachings after we have heard and reflected on them. Venerable George Churinoff\, a precious Dharma scholar and practitioner\, guides us through this profound sequence of meditations so we can gain a full understanding of the Buddha’s teachings\, nourish our minds\, and create the causes for contentment. This is an excellent opportunity for new students to understand the structure of the entire Buddhist path and for more experienced students to deepen their understanding and practice.
URL:https://shantidevanyc.org/event/meditations-to-train-the-mind-in-the-mahayana-path-2021-05-27/
LOCATION:Zoom
CATEGORIES:Teachings
ATTACH;FMTTYPE=image/jpeg:https://shantidevanyc.org/wp-content/uploads/2020/09/MB_Ven-George-Churinoff_300x300.jpg
END:VEVENT
BEGIN:VEVENT
DTSTART;TZID=America/New_York:20210525T190000
DTEND;TZID=America/New_York:20210525T203000
DTSTAMP:20260425T072501
CREATED:20210402T180653Z
LAST-MODIFIED:20210403T161953Z
UID:19534-1621969200-1621974600@shantidevanyc.org
SUMMARY:Three ​Visions of Profound Reality​​ with Prof. Guy Newland
DESCRIPTION:When Buddha meditated on the causes of human suffering and dissatisfaction\, he found liberation by realizing what he called the Profound Reality. Professor Newland explains the distinctive power of Tsongkhapa’s articulation of this vision\, contrasting it with the approaches of other Tibetan masters such as Dölpopa Sherap Gyaltsen and Goram Sönam Senge.
URL:https://shantidevanyc.org/event/three-%e2%80%8bvisions-of-profound-reality%e2%80%8b%e2%80%8b-2021-05-25/
CATEGORIES:Teachings
ATTACH;FMTTYPE=image/jpeg:https://shantidevanyc.org/wp-content/uploads/2021/03/2021-Guy-Newland-bio.jpg
END:VEVENT
BEGIN:VEVENT
DTSTART;TZID=America/New_York:20210518T190000
DTEND;TZID=America/New_York:20210518T203000
DTSTAMP:20260425T072501
CREATED:20210402T180653Z
LAST-MODIFIED:20210403T161953Z
UID:19533-1621364400-1621369800@shantidevanyc.org
SUMMARY:Three ​Visions of Profound Reality​​ with Prof. Guy Newland
DESCRIPTION:When Buddha meditated on the causes of human suffering and dissatisfaction\, he found liberation by realizing what he called the Profound Reality. Professor Newland explains the distinctive power of Tsongkhapa’s articulation of this vision\, contrasting it with the approaches of other Tibetan masters such as Dölpopa Sherap Gyaltsen and Goram Sönam Senge.
URL:https://shantidevanyc.org/event/three-%e2%80%8bvisions-of-profound-reality%e2%80%8b%e2%80%8b-2021-05-18/
LOCATION:Zoom
CATEGORIES:Teachings
ATTACH;FMTTYPE=image/jpeg:https://shantidevanyc.org/wp-content/uploads/2021/03/2021-Guy-Newland-bio.jpg
END:VEVENT
BEGIN:VEVENT
DTSTART;TZID=America/New_York:20210514T190000
DTEND;TZID=America/New_York:20210514T203000
DTSTAMP:20260425T072501
CREATED:20210402T180648Z
LAST-MODIFIED:20210421T173708Z
UID:19506-1621018800-1621024200@shantidevanyc.org
SUMMARY:Faith and Impermanence with Yangsi Rinpoche
DESCRIPTION:Shantideva Center is delighted to host virtual teachings from Geshe Lharampa Yangsi Rinpoche from Maitripa College in Portland\, Oregon. In this series of four teachings\, Rinpoche delves into the topics of faith (Tib. dépa; its three kinds and many benefits) and impermanence. \nFaith invigorates and nourishes the entire spiritual path\, from the first thought that we can let go of our fixations and nurture our virtues all the way to enlightenment. Faith might aptly be depicted as a dry desert becoming rehabilitated and transformed into lush green land. Contemplating impermanence allows us to relax our usually rigid sense of self and be open to perceiving that we are mere guests hosted in the guesthouse of our five aggregates. Meditating on impermanence strengthens our ability to stay aware of the present and gently challenge the notion that we have endless time to fill with leisurely distractions. \nIn this series\, Rinpoche interweaves these topics to give us a rich sense of the invigorating and nourishing power of faith\, the clear-eyed wisdom of impermanence\, and the importance of both on the spiritual path.
URL:https://shantidevanyc.org/event/faith-and-impermanence-with-yangsi-rinpoche-2021-05-14/
LOCATION:Zoom
CATEGORIES:Teachings
ATTACH;FMTTYPE=image/jpeg:https://shantidevanyc.org/wp-content/uploads/2021/03/2021-04-Yangsi-Rinpoche-bio-photo.jpg
END:VEVENT
BEGIN:VEVENT
DTSTART;TZID=America/New_York:20210513T190000
DTEND;TZID=America/New_York:20210513T203000
DTSTAMP:20260425T072501
CREATED:20210402T180649Z
LAST-MODIFIED:20210402T180649Z
UID:19547-1620932400-1620937800@shantidevanyc.org
SUMMARY:Meditations to Train the Mind in the Mahayana Path with Ven. George Churinoff
DESCRIPTION:The lamrim\, the gradual path to enlightenment\, is a textual tradition that presents the Buddhist teachings in a concise yet comprehensive manner. Lamrim meditations are essential for actualizing the various teachings after we have heard and reflected on them. Venerable George Churinoff\, a precious Dharma scholar and practitioner\, guides us through this profound sequence of meditations so we can gain a full understanding of the Buddha’s teachings\, nourish our minds\, and create the causes for contentment. This is an excellent opportunity for new students to understand the structure of the entire Buddhist path and for more experienced students to deepen their understanding and practice.
URL:https://shantidevanyc.org/event/meditations-to-train-the-mind-in-the-mahayana-path-2021-05-13/
LOCATION:Zoom
CATEGORIES:Teachings
ATTACH;FMTTYPE=image/jpeg:https://shantidevanyc.org/wp-content/uploads/2020/09/MB_Ven-George-Churinoff_300x300.jpg
END:VEVENT
BEGIN:VEVENT
DTSTART;TZID=America/New_York:20210511T190000
DTEND;TZID=America/New_York:20210511T203000
DTSTAMP:20260425T072501
CREATED:20210402T180653Z
LAST-MODIFIED:20210403T161953Z
UID:19496-1620759600-1620765000@shantidevanyc.org
SUMMARY:Three ​Visions of Profound Reality​​ with Prof. Guy Newland
DESCRIPTION:When Buddha meditated on the causes of human suffering and dissatisfaction\, he found liberation by realizing what he called the Profound Reality. Professor Newland explains the distinctive power of Tsongkhapa’s articulation of this vision\, contrasting it with the approaches of other Tibetan masters such as Dölpopa Sherap Gyaltsen and Goram Sönam Senge.
URL:https://shantidevanyc.org/event/three-%e2%80%8bvisions-of-profound-reality%e2%80%8b%e2%80%8b/
LOCATION:Zoom
CATEGORIES:Teachings
ATTACH;FMTTYPE=image/jpeg:https://shantidevanyc.org/wp-content/uploads/2021/03/2021-Guy-Newland-bio.jpg
END:VEVENT
BEGIN:VEVENT
DTSTART;TZID=America/New_York:20210507T190000
DTEND;TZID=America/New_York:20210507T203000
DTSTAMP:20260425T072501
CREATED:20210402T180648Z
LAST-MODIFIED:20210421T173707Z
UID:19505-1620414000-1620419400@shantidevanyc.org
SUMMARY:Faith and Impermanence with Yangsi Rinpoche
DESCRIPTION:Shantideva Center is delighted to host virtual teachings from Geshe Lharampa Yangsi Rinpoche from Maitripa College in Portland\, Oregon. In this series of four teachings\, Rinpoche delves into the topics of faith (Tib. dépa; its three kinds and many benefits) and impermanence. \nFaith invigorates and nourishes the entire spiritual path\, from the first thought that we can let go of our fixations and nurture our virtues all the way to enlightenment. Faith might aptly be depicted as a dry desert becoming rehabilitated and transformed into lush green land. Contemplating impermanence allows us to relax our usually rigid sense of self and be open to perceiving that we are mere guests hosted in the guesthouse of our five aggregates. Meditating on impermanence strengthens our ability to stay aware of the present and gently challenge the notion that we have endless time to fill with leisurely distractions. \nIn this series\, Rinpoche interweaves these topics to give us a rich sense of the invigorating and nourishing power of faith\, the clear-eyed wisdom of impermanence\, and the importance of both on the spiritual path.
URL:https://shantidevanyc.org/event/faith-and-impermanence-with-yangsi-rinpoche-2021-05-07/
LOCATION:Zoom
CATEGORIES:Teachings
ATTACH;FMTTYPE=image/jpeg:https://shantidevanyc.org/wp-content/uploads/2021/03/2021-04-Yangsi-Rinpoche-bio-photo.jpg
END:VEVENT
BEGIN:VEVENT
DTSTART;TZID=America/New_York:20210506T190000
DTEND;TZID=America/New_York:20210506T203000
DTSTAMP:20260425T072501
CREATED:20210402T180649Z
LAST-MODIFIED:20210402T180649Z
UID:19546-1620327600-1620333000@shantidevanyc.org
SUMMARY:Meditations to Train the Mind in the Mahayana Path with Ven. George Churinoff
DESCRIPTION:The lamrim\, the gradual path to enlightenment\, is a textual tradition that presents the Buddhist teachings in a concise yet comprehensive manner. Lamrim meditations are essential for actualizing the various teachings after we have heard and reflected on them. Venerable George Churinoff\, a precious Dharma scholar and practitioner\, guides us through this profound sequence of meditations so we can gain a full understanding of the Buddha’s teachings\, nourish our minds\, and create the causes for contentment. This is an excellent opportunity for new students to understand the structure of the entire Buddhist path and for more experienced students to deepen their understanding and practice.
URL:https://shantidevanyc.org/event/meditations-to-train-the-mind-in-the-mahayana-path-2021-05-06/
LOCATION:Zoom
CATEGORIES:Teachings
ATTACH;FMTTYPE=image/jpeg:https://shantidevanyc.org/wp-content/uploads/2020/09/MB_Ven-George-Churinoff_300x300.jpg
END:VEVENT
BEGIN:VEVENT
DTSTART;TZID=America/New_York:20210430T190000
DTEND;TZID=America/New_York:20210430T203000
DTSTAMP:20260425T072501
CREATED:20210402T180648Z
LAST-MODIFIED:20210421T173706Z
UID:19504-1619809200-1619814600@shantidevanyc.org
SUMMARY:Faith and Impermanence with Yangsi Rinpoche
DESCRIPTION:Shantideva Center is delighted to host virtual teachings from Geshe Lharampa Yangsi Rinpoche from Maitripa College in Portland\, Oregon. In this series of four teachings\, Rinpoche delves into the topics of faith (Tib. dépa; its three kinds and many benefits) and impermanence. \nFaith invigorates and nourishes the entire spiritual path\, from the first thought that we can let go of our fixations and nurture our virtues all the way to enlightenment. Faith might aptly be depicted as a dry desert becoming rehabilitated and transformed into lush green land. Contemplating impermanence allows us to relax our usually rigid sense of self and be open to perceiving that we are mere guests hosted in the guesthouse of our five aggregates. Meditating on impermanence strengthens our ability to stay aware of the present and gently challenge the notion that we have endless time to fill with leisurely distractions. \nIn this series\, Rinpoche interweaves these topics to give us a rich sense of the invigorating and nourishing power of faith\, the clear-eyed wisdom of impermanence\, and the importance of both on the spiritual path.
URL:https://shantidevanyc.org/event/faith-and-impermanence-with-yangsi-rinpoche-2021-04-30/
LOCATION:Zoom
CATEGORIES:Teachings
ATTACH;FMTTYPE=image/jpeg:https://shantidevanyc.org/wp-content/uploads/2021/03/2021-04-Yangsi-Rinpoche-bio-photo.jpg
END:VEVENT
BEGIN:VEVENT
DTSTART;TZID=America/New_York:20210429T190000
DTEND;TZID=America/New_York:20210429T203000
DTSTAMP:20260425T072501
CREATED:20210402T180649Z
LAST-MODIFIED:20210402T180649Z
UID:19545-1619722800-1619728200@shantidevanyc.org
SUMMARY:Meditations to Train the Mind in the Mahayana Path with Ven. George Churinoff
DESCRIPTION:The lamrim\, the gradual path to enlightenment\, is a textual tradition that presents the Buddhist teachings in a concise yet comprehensive manner. Lamrim meditations are essential for actualizing the various teachings after we have heard and reflected on them. Venerable George Churinoff\, a precious Dharma scholar and practitioner\, guides us through this profound sequence of meditations so we can gain a full understanding of the Buddha’s teachings\, nourish our minds\, and create the causes for contentment. This is an excellent opportunity for new students to understand the structure of the entire Buddhist path and for more experienced students to deepen their understanding and practice.
URL:https://shantidevanyc.org/event/meditations-to-train-the-mind-in-the-mahayana-path-2021-04-29/
LOCATION:Zoom
CATEGORIES:Teachings
ATTACH;FMTTYPE=image/jpeg:https://shantidevanyc.org/wp-content/uploads/2020/09/MB_Ven-George-Churinoff_300x300.jpg
END:VEVENT
BEGIN:VEVENT
DTSTART;TZID=America/New_York:20210423T190000
DTEND;TZID=America/New_York:20210423T203000
DTSTAMP:20260425T072501
CREATED:20210402T180648Z
LAST-MODIFIED:20210421T173705Z
UID:19494-1619204400-1619209800@shantidevanyc.org
SUMMARY:Faith and Impermanence with Yangsi Rinpoche
DESCRIPTION:Shantideva Center is delighted to host virtual teachings from Geshe Lharampa Yangsi Rinpoche from Maitripa College in Portland\, Oregon. In this series of four teachings\, Rinpoche delves into the topics of faith (Tib. dépa; its three kinds and many benefits) and impermanence. \nFaith invigorates and nourishes the entire spiritual path\, from the first thought that we can let go of our fixations and nurture our virtues all the way to enlightenment. Faith might aptly be depicted as a dry desert becoming rehabilitated and transformed into lush green land. Contemplating impermanence allows us to relax our usually rigid sense of self and be open to perceiving that we are mere guests hosted in the guesthouse of our five aggregates. Meditating on impermanence strengthens our ability to stay aware of the present and gently challenge the notion that we have endless time to fill with leisurely distractions. \nIn this series\, Rinpoche interweaves these topics to give us a rich sense of the invigorating and nourishing power of faith\, the clear-eyed wisdom of impermanence\, and the importance of both on the spiritual path.
URL:https://shantidevanyc.org/event/faith-and-impermanence-with-yangsi-rinpoche/
LOCATION:Zoom
CATEGORIES:Teachings
ATTACH;FMTTYPE=image/jpeg:https://shantidevanyc.org/wp-content/uploads/2021/03/2021-04-Yangsi-Rinpoche-bio-photo.jpg
END:VEVENT
BEGIN:VEVENT
DTSTART;TZID=America/New_York:20210415T190000
DTEND;TZID=America/New_York:20210415T203000
DTSTAMP:20260425T072501
CREATED:20210402T180649Z
LAST-MODIFIED:20210402T180649Z
UID:19544-1618513200-1618518600@shantidevanyc.org
SUMMARY:Meditations to Train the Mind in the Mahayana Path with Ven. George Churinoff
DESCRIPTION:The lamrim\, the gradual path to enlightenment\, is a textual tradition that presents the Buddhist teachings in a concise yet comprehensive manner. Lamrim meditations are essential for actualizing the various teachings after we have heard and reflected on them. Venerable George Churinoff\, a precious Dharma scholar and practitioner\, guides us through this profound sequence of meditations so we can gain a full understanding of the Buddha’s teachings\, nourish our minds\, and create the causes for contentment. This is an excellent opportunity for new students to understand the structure of the entire Buddhist path and for more experienced students to deepen their understanding and practice.
URL:https://shantidevanyc.org/event/meditations-to-train-the-mind-in-the-mahayana-path-2021-04-15/
LOCATION:Zoom
CATEGORIES:Teachings
ATTACH;FMTTYPE=image/jpeg:https://shantidevanyc.org/wp-content/uploads/2020/09/MB_Ven-George-Churinoff_300x300.jpg
END:VEVENT
BEGIN:VEVENT
DTSTART;TZID=America/New_York:20210410T103000
DTEND;TZID=America/New_York:20210410T120000
DTSTAMP:20260425T072501
CREATED:20210402T180648Z
LAST-MODIFIED:20210402T180648Z
UID:19502-1618050600-1618056000@shantidevanyc.org
SUMMARY:The Most Essential Teaching: The Four Noble Truths with Geshe Tashi Tsering
DESCRIPTION:“Whatever we study after the four noble truths will echo back to this most essential teaching\, and conversely this teaching will be revealed in everything else we study.”–Geshe Tashi Tsering \nShantideva Center is delighted to host Khen Rinpoche Geshe Tashi Tsering\, abbot of Sera Mey Monastic University\, to teach on the Buddha’s first and most essential teaching. The whole of Buddhist philosophy and the entire path to enlightenment can be found in the four noble truths: \n1. Life is characterized by suffering.\n2. The cause of suffering is ignorance.\n3. The cessation of suffering is attainable.\n4. There is a path to the cessation of suffering. \nThis spring\, contemplate these four noble truths with the skilled guidance of Geshe Tashi Tsering. In his characteristic warmth and clarity\, Geshe-la will offer a series of four online Saturday morning teachings on the Four Noble Truths Sutra (also known as “Setting in Motion the Wheel of the Dhamma”). By listening to teachings on this text\, we will become familiar with the three phases of engaging with these truths: knowing the nature of the truth\, knowing what needs to be done in connection with that truth\, and finally\, accomplishing what needs to be done. This foundational teaching is always relevant\, no matter where you are on your spiritual journey!
URL:https://shantidevanyc.org/event/the-most-essential-teaching-the-four-noble-truths-with-geshe-tashi-tsering-2021-04-10/
LOCATION:Zoom
CATEGORIES:Teachings
ATTACH;FMTTYPE=image/jpeg:https://shantidevanyc.org/wp-content/uploads/2021/01/2021-03-Geshe-Tashi-thumbnail.jpg
END:VEVENT
BEGIN:VEVENT
DTSTART;TZID=America/New_York:20210408T190000
DTEND;TZID=America/New_York:20210408T203000
DTSTAMP:20260425T072501
CREATED:20210402T180649Z
LAST-MODIFIED:20210403T164003Z
UID:19495-1617908400-1617913800@shantidevanyc.org
SUMMARY:Meditations to Train the Mind in the Mahayana Path with Ven. George Churinoff
DESCRIPTION:The lamrim\, the gradual path to enlightenment\, is a textual tradition that presents the Buddhist teachings in a concise yet comprehensive manner. Lamrim meditations are essential for actualizing the various teachings after we have heard and reflected on them. Venerable George Churinoff\, a precious Dharma scholar and practitioner\, guides us through this profound sequence of meditations so we can gain a full understanding of the Buddha’s teachings\, nourish our minds\, and create the causes for contentment. This is an excellent opportunity for new students to understand the structure of the entire Buddhist path and for more experienced students to deepen their understanding and practice.
URL:https://shantidevanyc.org/event/meditations-to-train-the-mind-in-the-mahayana-path/
LOCATION:Zoom
CATEGORIES:Teachings
ATTACH;FMTTYPE=image/jpeg:https://shantidevanyc.org/wp-content/uploads/2020/09/MB_Ven-George-Churinoff_300x300.jpg
END:VEVENT
BEGIN:VEVENT
DTSTART;TZID=America/New_York:20210403T103000
DTEND;TZID=America/New_York:20210403T120000
DTSTAMP:20260425T072501
CREATED:20210402T180648Z
LAST-MODIFIED:20210402T180928Z
UID:19492-1617445800-1617451200@shantidevanyc.org
SUMMARY:The Most Essential Teaching: The Four Noble Truths with Geshe Tashi Tsering
DESCRIPTION:“Whatever we study after the four noble truths will echo back to this most essential teaching\, and conversely this teaching will be revealed in everything else we study.”–Geshe Tashi Tsering \nShantideva Center is delighted to host Khen Rinpoche Geshe Tashi Tsering\, abbot of Sera Mey Monastic University\, to teach on the Buddha’s first and most essential teaching. The whole of Buddhist philosophy and the entire path to enlightenment can be found in the four noble truths: \n1. Life is characterized by suffering.\n2. The cause of suffering is ignorance.\n3. The cessation of suffering is attainable.\n4. There is a path to the cessation of suffering. \nThis spring\, contemplate these four noble truths with the skilled guidance of Geshe Tashi Tsering. In his characteristic warmth and clarity\, Geshe-la will offer a series of four online Saturday morning teachings on the Four Noble Truths Sutra (also known as “Setting in Motion the Wheel of the Dhamma”). By listening to teachings on this text\, we will become familiar with the three phases of engaging with these truths: knowing the nature of the truth\, knowing what needs to be done in connection with that truth\, and finally\, accomplishing what needs to be done. This foundational teaching is always relevant\, no matter where you are on your spiritual journey!
URL:https://shantidevanyc.org/event/the-most-essential-teaching-the-four-noble-truths-with-geshe-tashi-tsering/
LOCATION:Zoom
CATEGORIES:Teachings
ATTACH;FMTTYPE=image/jpeg:https://shantidevanyc.org/wp-content/uploads/2021/01/2021-03-Geshe-Tashi-thumbnail.jpg
END:VEVENT
END:VCALENDAR